BEGIN:VCALENDAR
VERSION:2.0
PRODID:-//Eva Fogelman, PhD - ECPv6.15.20//NONSGML v1.0//EN
CALSCALE:GREGORIAN
METHOD:PUBLISH
X-ORIGINAL-URL:https://evafogelman.com
X-WR-CALDESC:Events for Eva Fogelman, PhD
REFRESH-INTERVAL;VALUE=DURATION:PT1H
X-Robots-Tag:noindex
X-PUBLISHED-TTL:PT1H
BEGIN:VTIMEZONE
TZID:America/New_York
BEGIN:DAYLIGHT
TZOFFSETFROM:-0500
TZOFFSETTO:-0400
TZNAME:EDT
DTSTART:20230312T070000
END:DAYLIGHT
BEGIN:STANDARD
TZOFFSETFROM:-0400
TZOFFSETTO:-0500
TZNAME:EST
DTSTART:20231105T060000
END:STANDARD
BEGIN:DAYLIGHT
TZOFFSETFROM:-0500
TZOFFSETTO:-0400
TZNAME:EDT
DTSTART:20240310T070000
END:DAYLIGHT
BEGIN:STANDARD
TZOFFSETFROM:-0400
TZOFFSETTO:-0500
TZNAME:EST
DTSTART:20241103T060000
END:STANDARD
BEGIN:DAYLIGHT
TZOFFSETFROM:-0500
TZOFFSETTO:-0400
TZNAME:EDT
DTSTART:20250309T070000
END:DAYLIGHT
BEGIN:STANDARD
TZOFFSETFROM:-0400
TZOFFSETTO:-0500
TZNAME:EST
DTSTART:20251102T060000
END:STANDARD
END:VTIMEZONE
BEGIN:VEVENT
DTSTART;TZID=America/New_York:20241201T140000
DTEND;TZID=America/New_York:20241201T160000
DTSTAMP:20260421T214824
CREATED:20241108T022844Z
LAST-MODIFIED:20241108T152941Z
UID:22106-1733061600-1733068800@evafogelman.com
SUMMARY:Kindertransport Commemoration
DESCRIPTION:The rescue network known as the Kindertransport saved the lives of nearly 10\,000 children between the years of 1938 and 1940 by transporting them from Nazi Germany to England. This year marks the 85th anniversary of the Kindertransport.  \n\n\n\n\n\n\n\nTo commemorate the arrival of the first Kindertransport in England on December 2\, 1938\, the Museum and the Kindertransport Association present a screening of the short films 256\,000 Miles from Home and Dreyfus Drei. 256\,000 Miles from Home follows four Kindertransport survivors as they retrace the route they took from their homelands to England and Dreyfus Drei tells the story of Australian Jewish artist Ella Dreyfus and her quest to unearth her family’s lost Holocaust history. \n\n\n\n\n\n\n\nThe screening will be followed by a panel discussion with Dreyfus; Melissa Hacker\, Executive Director of the KTA and director of 256\,000 Miles from Home; Ilse Melamid\, Kindertransport survivor; and Eva Yachnes\, Kindertransport survivor. The program will be moderated by Dr. Eva Fogelman\, renowned psychologist and author of the Pulitzer Prize-nominated book Conscience and Courage: Rescuers of Jews During the Holocaust.
URL:https://evafogelman.com/event/kindertransport-commemoration/
LOCATION:Museum of Jewish Heritage
ATTACH;FMTTYPE=image/png:https://evafogelman.com/app/uploads/2024/11/Kindertransport-Commemoration-Plain-Rectangle-2.png
END:VEVENT
END:VCALENDAR