BEGIN:VCALENDAR
VERSION:2.0
PRODID:-//Eva Fogelman, PhD - ECPv6.15.20//NONSGML v1.0//EN
CALSCALE:GREGORIAN
METHOD:PUBLISH
X-WR-CALNAME:Eva Fogelman, PhD
X-ORIGINAL-URL:https://evafogelman.com
X-WR-CALDESC:Events for Eva Fogelman, PhD
REFRESH-INTERVAL;VALUE=DURATION:PT1H
X-Robots-Tag:noindex
X-PUBLISHED-TTL:PT1H
BEGIN:VTIMEZONE
TZID:America/New_York
BEGIN:DAYLIGHT
TZOFFSETFROM:-0500
TZOFFSETTO:-0400
TZNAME:EDT
DTSTART:20230312T070000
END:DAYLIGHT
BEGIN:STANDARD
TZOFFSETFROM:-0400
TZOFFSETTO:-0500
TZNAME:EST
DTSTART:20231105T060000
END:STANDARD
BEGIN:DAYLIGHT
TZOFFSETFROM:-0500
TZOFFSETTO:-0400
TZNAME:EDT
DTSTART:20240310T070000
END:DAYLIGHT
BEGIN:STANDARD
TZOFFSETFROM:-0400
TZOFFSETTO:-0500
TZNAME:EST
DTSTART:20241103T060000
END:STANDARD
BEGIN:DAYLIGHT
TZOFFSETFROM:-0500
TZOFFSETTO:-0400
TZNAME:EDT
DTSTART:20250309T070000
END:DAYLIGHT
BEGIN:STANDARD
TZOFFSETFROM:-0400
TZOFFSETTO:-0500
TZNAME:EST
DTSTART:20251102T060000
END:STANDARD
END:VTIMEZONE
BEGIN:VEVENT
DTSTART;TZID=America/New_York:20240410T190000
DTEND;TZID=America/New_York:20240410T210000
DTSTAMP:20260424T120004
CREATED:20240406T163516Z
LAST-MODIFIED:20240406T173603Z
UID:22019-1712775600-1712782800@evafogelman.com
SUMMARY:A Pocketful of Miracles screening at Cornell Cinema
DESCRIPTION:A Pocketful of Miracles: A Tale of Two Siblings. (provided)\n\n\n\n“A Pocketful of Miracles: A Tale of Two Siblings” \n\n\n\nFree Screening at Cornell University April 10\, 2024 at 7:00PM \n\n\n\nClick HERE to Reserve Tickets \n\n\n\nListed as one of the Best Films of 2023 by “The Washington Post” and Winner of the Audience Prize for Best Documentary at the JxJ Film and Music Festival\, “A Pocketful of Miracles: A Tale of Two Siblings” screens at Cornell University (616 Thurston Ave.\, Ithaca\, NY 14853) on April 10\, 2024 at 7:00PM \n\n\n\n“If you want me to describe my life in a few words\, then it’s a ‘pocketful of miracles’. Things that I really can’t explain.” This is how David Ciesla describes his life.  \n\n\n\n“A Pocketful of Miracles: A Tale of Two Siblings” is a family memoir focusing on the pre-war and wartime experiences of siblings Hanka Ciesla\, who passed as a Polish Catholic within Germany\, and Dudek Ciesla\, who survived Auschwitz\, and the story of Harold Kempner\, who captured their reunion in Berlin as a military government journalist. Helen and David Ciesla’s life stories are indeed peppered with improbable coincidences and absurd strokes of luck\, not to mention tales of remarkable fortitude and perseverance; similar to that of many Shoah survivors\, and yet special and unique. Berlin-born filmmaker Aviva Kempner chronicles her mother’s and uncle’s lives before and during World War II\, from their idyllic Jewish upbringing in Poland to their tearful reunion after surviving the Holocaust. This moving documentary ends by sharing the incredible lives they built in America as painter Helen Ciesla Covensky and businessperson and philanthropist David Chase and serves as a reminder of why it is so important to make films about the fate of those who survived.Filmmaker Aviva Kempner will join for Q&A after the film with Professor Elliot Shapiro\, Senior Lecturer in the Knight Institute and the Knight Foundation Director of the Writing in the Majors program.Free admission. Sponsored by the Jewish Studies Program.To reserve tickets: https://cinema.cornell.edu/pocketful-miracles-tale-two-siblings Film website: www.pocketfulofmiraclesfilm.org
URL:https://evafogelman.com/event/a-pocketful-of-miracles-screening-at-cornell-cinema/
LOCATION:Cornell Cinema\, 104 Willard Straight Hall\, Ithaca\, New York\, 14850\, United States
ATTACH;FMTTYPE=image/jpeg:https://evafogelman.com/app/uploads/2024/04/Cornellcinema.jpg
END:VEVENT
BEGIN:VEVENT
DTSTART;TZID=America/New_York:20240418T100000
DTEND;TZID=America/New_York:20240418T120000
DTSTAMP:20260424T120004
CREATED:20240406T171246Z
LAST-MODIFIED:20240406T171246Z
UID:22007-1713434400-1713441600@evafogelman.com
SUMMARY:Echoes of Children’s Survival: Opening the Kestenberg Archive Online
DESCRIPTION:Dr. Sharon Kangisser-Cohen (Yad Vashem) in a Conversation with Dr. Eva Fogelman (Psychologist\, Filmmaker and Author) | Echoes of Children’s Survival: Unveiling the Kestenberg Archive Online \n\n\n\nIn 1981\, the late Dr. Judith and Milton Kestenberg started interviewing Holocaust Child Survivors. Today 1500 interviews have been digitized by the Oral History Division of Hebrew University (then under the directorship of Dr. Sharon Kangisser) and are now part of the Israel National Library. The upcoming event will be to open the archive online. \n\n\n\nKestenberg Archive\, provided\n\n\n\nZoom Event Registration: https://leobaeck.org/upcoming-events/echoes-of-childrens-survival-unveiling-the-kestenberg-archive-online/?lang=en \n\n\n\nThe Book\n\n\n\n\n\n\n\nEva Fogelman (Editor)\, Sharon Kangisser Cohen (Editor)\, Dalia Ofer (Editor). Children in the Holocaust and its aftermath : historical and psychological studies of the Kestenberg Archive. Berghahn\, New York\, 2017. \n\n\n\nPurchase book on Amazon\n\n\n\nThe testimonies of individuals who survived the Holocaust as children pose distinct emotional and intellectual challenges for researchers: as now-adult interviewees recall profound childhood experiences of suffering and persecution\, they also invoke their own historical awareness and memories of their postwar lives\, requiring readers to follow simultaneous\, disparate narratives.  \n\n\n\nThis interdisciplinary volume brings together historians\, psychologists\, and other scholars to explore child survivors’ accounts. With a central focus on the Kestenberg Holocaust Child Survivor Archive’s over 1\,500 testimonies\, it not only enlarges our understanding of the Holocaust empirically but illuminates the methodological\, theoretical\, and institutional dimensions of this unique form of historical record.
URL:https://evafogelman.com/event/echoes-of-childrens-survival-opening-the-kestenberg-archive-online/
LOCATION:New York
ATTACH;FMTTYPE=image/jpeg:https://evafogelman.com/app/uploads/2024/04/kestenberg-event.jpg
END:VEVENT
END:VCALENDAR