BEGIN:VCALENDAR
VERSION:2.0
PRODID:-//Eva Fogelman, PhD - ECPv6.15.20//NONSGML v1.0//EN
CALSCALE:GREGORIAN
METHOD:PUBLISH
X-ORIGINAL-URL:https://evafogelman.com
X-WR-CALDESC:Events for Eva Fogelman, PhD
REFRESH-INTERVAL;VALUE=DURATION:PT1H
X-Robots-Tag:noindex
X-PUBLISHED-TTL:PT1H
BEGIN:VTIMEZONE
TZID:America/New_York
BEGIN:DAYLIGHT
TZOFFSETFROM:-0500
TZOFFSETTO:-0400
TZNAME:EDT
DTSTART:20210314T070000
END:DAYLIGHT
BEGIN:STANDARD
TZOFFSETFROM:-0400
TZOFFSETTO:-0500
TZNAME:EST
DTSTART:20211107T060000
END:STANDARD
BEGIN:DAYLIGHT
TZOFFSETFROM:-0500
TZOFFSETTO:-0400
TZNAME:EDT
DTSTART:20220313T070000
END:DAYLIGHT
BEGIN:STANDARD
TZOFFSETFROM:-0400
TZOFFSETTO:-0500
TZNAME:EST
DTSTART:20221106T060000
END:STANDARD
BEGIN:DAYLIGHT
TZOFFSETFROM:-0500
TZOFFSETTO:-0400
TZNAME:EDT
DTSTART:20230312T070000
END:DAYLIGHT
BEGIN:STANDARD
TZOFFSETFROM:-0400
TZOFFSETTO:-0500
TZNAME:EST
DTSTART:20231105T060000
END:STANDARD
END:VTIMEZONE
BEGIN:VEVENT
DTSTART;TZID=America/New_York:20220906T130000
DTEND;TZID=America/New_York:20220906T143000
DTSTAMP:20260425T194336
CREATED:20220907T182926Z
LAST-MODIFIED:20220907T183932Z
UID:21528-1662469200-1662474600@evafogelman.com
SUMMARY:“Researchers Remember” Book Talk
DESCRIPTION:Researchers Remember\n\n\n\nFor descendants of Holocaust survivors who became researchers and scholars\, whether they devoted their professional lives to the Holocaust or to other topics\, the Holocaust often accompanies their professional lives like a shadow.  \n\n\n\nThe new book Researchers Remember: Research as an Arena of Memory for Descendants of Holocaust Survivors\, discusses this phenomenon through the stories of 30 researchers\, children and grandchildren of Holocaust survivors. It is the first book of its kind\, and the Museum is pleased to host a round table discussion and book talk with editors and contributors. \n\n\n\nJudy Tydor Baumel-Schwartz. Photo by John Halpern/courtesy of The Museum of Jewish Heritage\n\n\n\nPresented by Judy Tydor Baumel-Schwartz and Shmuel Refael\, editors of Researchers Remember. Together with Jacqueline Heller\, Dan Carter\, Dorota Glowacka\, Sam Juni\, Abraham J. Peck\, Liat Steir-Livny\, Zehavit Gross\, and Eva Fogelman\, they will discuss how their parents’ or grandparents’ Holocaust experiences affected their personal and professional trajectories. \n\n\n\nProf. Judy Tydor Baumel-Schwartz is the Director of the Finkler Institute of Holocaust Research and Professor of Jewish History at Bar-Ilan University\, and a historian-curator for the exhibition The Holocaust: What Hate Can Do. \n\n\n\nProf. Shmuel Refael is the Director of the Salti Institute for Ladino Studies and Dean of the Faculty of Jewish Studies at Bar-Ilan University. He has published extensively about the Sephardim and the Holocaust and about the representation of the Holocaust in Ladino poetry. \n\n\n\nDr. Jacqueline Heller is a Los Angeles-based psychiatrist and psychoanalyst who recently retired from her private practice. She was on the clinical faculty at UCLA David Geffen School of Medicine as an Assistant Clinical Professor where she taught\, mentored\, and supervised for 30 years. She has been writing a forthcoming book\, Yesterday Never Sleeps\, which should be published next year. \n\n\n\nProf. Dan Carter is the Director of the Neurograstroenterology and Pelvic Floor Clinic at the Chaim Sheba Medical Center at Tel Hashomer and a Clinical Associate Professor at the Sackler Faculty of Medicine\, Tel-Aviv University. \n\n\n\nProf. Dorota Glowacka is Professor of Humanities and Director of Contemporary Studies Program at the University of King’s College in Halifax\, Canada. \n\n\n\nProf. Sam Juni is Professor Emeritus at New York University. He founded and directed the Psychology Graduate Program at NYU Tel Aviv for close to a decade and is currently in private practice in Jerusalem. \n\n\n\nProf. Abraham J. Peck is Research Professor of History at the University of Southern Maine and a lecturer at Bates College. \n\n\n\nProf. Liat Steir-Livny is an Associate Professor in the Department of Cultural Studies\, Creation and Production at Sapir College and a tutor and course coordinator at the Open University of Israel. \n\n\n\nProf. Zehavit Gross is the Director of the Sal Van Gelder Center for Holocaust Research and Instruction; the incumbent of the UNESCO Chair in Education for Human Values\, Tolerance\, and Peace; and the Dean Elect of the Faculty of Education at Bar-Ilan University. \n\n\n\nDr. Eva Fogelman is a social psychologist\, psychotherapist\, author and filmmaker. She is co-editor of several books on the psychological and historical perspective on children during the Nazi reign and its aftermath. She is the writer and co-producer of the award-winning documentary Breaking the Silence: The Generation After the Holocaust (PBS). \n\n\n\nSee also:  \n\n\n\nJordan Hoffman. What Hate Can Do: inside a devastating new exhibition on the Holocaust. 16 Jul 2022. The Guardian.— https://www.theguardian.com/artanddesign/2022/jul/15/what-hate-can-do-holocaust-exhibition-new
URL:https://evafogelman.com/event/researchers-remember-book-talk/
LOCATION:Museum of Jewish Heritage
ATTACH;FMTTYPE=image/jpeg:https://evafogelman.com/app/uploads/2022/09/whathatecando.jpg
END:VEVENT
END:VCALENDAR