BEGIN:VCALENDAR
VERSION:2.0
PRODID:-//Eva Fogelman, PhD - ECPv6.15.20//NONSGML v1.0//EN
CALSCALE:GREGORIAN
METHOD:PUBLISH
X-WR-CALNAME:Eva Fogelman, PhD
X-ORIGINAL-URL:https://evafogelman.com
X-WR-CALDESC:Events for Eva Fogelman, PhD
REFRESH-INTERVAL;VALUE=DURATION:PT1H
X-Robots-Tag:noindex
X-PUBLISHED-TTL:PT1H
BEGIN:VTIMEZONE
TZID:America/New_York
BEGIN:DAYLIGHT
TZOFFSETFROM:-0500
TZOFFSETTO:-0400
TZNAME:EDT
DTSTART:20220313T070000
END:DAYLIGHT
BEGIN:STANDARD
TZOFFSETFROM:-0400
TZOFFSETTO:-0500
TZNAME:EST
DTSTART:20221106T060000
END:STANDARD
BEGIN:DAYLIGHT
TZOFFSETFROM:-0500
TZOFFSETTO:-0400
TZNAME:EDT
DTSTART:20230312T070000
END:DAYLIGHT
BEGIN:STANDARD
TZOFFSETFROM:-0400
TZOFFSETTO:-0500
TZNAME:EST
DTSTART:20231105T060000
END:STANDARD
BEGIN:DAYLIGHT
TZOFFSETFROM:-0500
TZOFFSETTO:-0400
TZNAME:EDT
DTSTART:20240310T070000
END:DAYLIGHT
BEGIN:STANDARD
TZOFFSETFROM:-0400
TZOFFSETTO:-0500
TZNAME:EST
DTSTART:20241103T060000
END:STANDARD
END:VTIMEZONE
BEGIN:VEVENT
DTSTART;TZID=America/New_York:20231202T110000
DTEND;TZID=America/New_York:20231202T133000
DTSTAMP:20260424T201847
CREATED:20231201T163525Z
LAST-MODIFIED:20231201T164508Z
UID:21881-1701514800-1701523800@evafogelman.com
SUMMARY:Lifetime Achievement Awards for Extraordinary Accomplishments in Psychohistory
DESCRIPTION:Lifetime Achievement Awards for Extraordinary Accomplishments in Psychohistory\n\n\n\nPresented by Psychohistory Forum to Distinguished Women Scholars \n\n\n\nDecember 2\, 2023\, 11am-1:30pm EST (virtual room opens at 10:30am EST) \n\n\n\nThis is our 4th Lifetime Achievement Awards ceremony at Psychohistory Forum\, and it is the 1st one organized around women contributors to psychohistory\, with a focus on women and feminist issues/approaches. \n\n\n\nThe recipients are Nancy Chodorow\, Eva Fogelman\, Carol Gilligan\, and Nancy McWilliams. They were chosen because of their major achievements. \n\n\n\nNancy Chodorow\, Eva Fogelman\, Carol Gilligan\, and Nancy McWilliams\n\n\n\nPaul Elovitz\, Director of Psychohistory Forum and Editor of Clio’s Psyche\, will start the meeting with the introduction to the activities of the Psychohistory Forum (1982) and Clio’s Psyche (1994) for those who are unfamiliar with our scholarly ideals and with what we do to achieve them. We will show a short video collage of the prior Lifetime Achievement award meetings. Then\, we will introduce a brief listing of distinguished women contributors who\, had they been alive\, would probably have been recipients of these Lifetime Achievement Awards. \n\n\n\nThe main part of this meeting will be dedicated to four incredible women\, who will be presented by their colleagues/introducers (up to 10 min each)\, and then the awardees will respond/reflect on what was said\, as well as about their psychohistorical influence and work\, and the occasion in general (up to 10 min each): \n\n\n\nNancy Chodorow – introducer Jeffrey PragerEva Fogelman – introducer Peace SullivanCarol Gilligan – introducer Ruthellen JosselsonNancy McWilliams – introducer Jim Anderson\n\n\n\nThere will be plenty of time for a Q & A and general discussion. \n\n\n\nShort biographies and introductory statements by the introducers of the awardees will be available here soon. \n\n\n\nInna Rozentsvit\, Associate Director of the Psychohistory Forum and Associate Editor of Clio’s Psyche\, will sum up the meeting and invite colleagues to join in our activities by becoming members of the Forum and writing for our journal. \n\n\n\nAs a follow-up to the Lifetime Achievement Award\, Carol Gilligan’s Festschrift\, to appear in the journal “Clio’s Psyche\,” is now being planned.  Festschrifts for other women are also a possibility. Colleagues\, family members\, and friends are invited to attend this virtual ceremony. \n\n\n\nRSVP required to receive the Zoom link for the meeting: (click the link below) \n\n\n\n4th Lifetime Achievement Awards for Extraordinary Accomplishments in Psychohistory Presented by Psychohistory Forum to Distinguished Women Scholars – Psychohistory Forum \n\n\n\nor: \n\n\n\nlink: https://psychohistoryforum.com/4th-lifetime-achievement-awards-for-extraordinary-accomplishments-in-psychohistory-presented-by-psychohistory-forum-to-distinguished-women-scholars/ \n\n\n\nDirect questions to Inna Rosentsvit:  \n\n\n\ninna.rozentsvit@gmail.com
URL:https://evafogelman.com/event/lifetime-achievement-awards-for-extraordinary-accomplishments-in-psychohistory/
LOCATION:Online Zoom RSVP
ATTACH;FMTTYPE=image/jpeg:https://evafogelman.com/app/uploads/2023/12/DALL·E-2023-12-01-11.16.56-An-abstract-composition-symbolizing-20th-century-intergenerational-trauma-and-the-concept-of-psychohistory.-The-central-element-is-a-stylized-human-br.jpg
END:VEVENT
END:VCALENDAR