BEGIN:VCALENDAR
VERSION:2.0
PRODID:-//Eva Fogelman, PhD - ECPv6.15.20//NONSGML v1.0//EN
CALSCALE:GREGORIAN
METHOD:PUBLISH
X-ORIGINAL-URL:https://evafogelman.com
X-WR-CALDESC:Events for Eva Fogelman, PhD
REFRESH-INTERVAL;VALUE=DURATION:PT1H
X-Robots-Tag:noindex
X-PUBLISHED-TTL:PT1H
BEGIN:VTIMEZONE
TZID:America/New_York
BEGIN:DAYLIGHT
TZOFFSETFROM:-0500
TZOFFSETTO:-0400
TZNAME:EDT
DTSTART:20220313T070000
END:DAYLIGHT
BEGIN:STANDARD
TZOFFSETFROM:-0400
TZOFFSETTO:-0500
TZNAME:EST
DTSTART:20221106T060000
END:STANDARD
BEGIN:DAYLIGHT
TZOFFSETFROM:-0500
TZOFFSETTO:-0400
TZNAME:EDT
DTSTART:20230312T070000
END:DAYLIGHT
BEGIN:STANDARD
TZOFFSETFROM:-0400
TZOFFSETTO:-0500
TZNAME:EST
DTSTART:20231105T060000
END:STANDARD
BEGIN:DAYLIGHT
TZOFFSETFROM:-0500
TZOFFSETTO:-0400
TZNAME:EDT
DTSTART:20240310T070000
END:DAYLIGHT
BEGIN:STANDARD
TZOFFSETFROM:-0400
TZOFFSETTO:-0500
TZNAME:EST
DTSTART:20241103T060000
END:STANDARD
END:VTIMEZONE
BEGIN:VEVENT
DTSTART;TZID=America/New_York:20231105T100000
DTEND;TZID=America/New_York:20231105T120000
DTSTAMP:20260424T220931
CREATED:20231103T095815Z
LAST-MODIFIED:20231112T201307Z
UID:21862-1699178400-1699185600@evafogelman.com
SUMMARY:They Carry the Torch: Life Affirming Legacies of Descendants of Holocaust Survivors
DESCRIPTION:The Shalom Club presents: Dr. Eva Fogelman \n\n\n\nEva Fogelman\n\n\n\nTraditionally\, descendants of Holocaust survivors as a group have been viewed as irrevocably traumatized by what their parents suffered. Now psychologist Eva Fogelman PhD offers a different narrative\, providing moving and life-affirming stories from the children and grandchildren of Holocaust survivors. \n\n\n\nThese stories\, based on decades of interviews\, show unequivocally that post-Holocaust generations are thriving today in spite of their tragic family history and the rise of antisemitism. They may carry scars\, but they are transforming pain and loss into positive action and a commitment to Jewish culture and traditions\, attesting to the resilience of the Jewish community. \n\n\n\nThe event is free. Coffee will be served following the program.
URL:https://evafogelman.com/event/they-carry-the-torch-life-affirming-legacies-of-descendants-of-holocaust-survivors/
LOCATION:Four Seasons at Great Notch\, 97 Quarry Dr\, Woodland Park\, New York\, 07424\, United States
ATTACH;FMTTYPE=image/jpeg:https://evafogelman.com/app/uploads/2023/11/DALL·E-2023-11-10-11.09.16-A-warm-and-joyful-image-of-a-multi-generational-Jewish-family-gathering.-The-scene-includes-grandparents-parents-and-children-of-various-ages-all-s.jpg
END:VEVENT
END:VCALENDAR